BEGIN:VCALENDAR
VERSION:2.0
PRODID:-//First Presbyterian of Paris - ECPv6.15.15//NONSGML v1.0//EN
CALSCALE:GREGORIAN
METHOD:PUBLISH
X-WR-CALNAME:First Presbyterian of Paris
X-ORIGINAL-URL:https://fpcparisky.org
X-WR-CALDESC:Events for First Presbyterian of Paris
REFRESH-INTERVAL;VALUE=DURATION:PT1H
X-Robots-Tag:noindex
X-PUBLISHED-TTL:PT1H
BEGIN:VTIMEZONE
TZID:America/Kentucky/Louisville
BEGIN:DAYLIGHT
TZOFFSETFROM:-0500
TZOFFSETTO:-0400
TZNAME:EDT
DTSTART:20250309T070000
END:DAYLIGHT
BEGIN:STANDARD
TZOFFSETFROM:-0400
TZOFFSETTO:-0500
TZNAME:EST
DTSTART:20251102T060000
END:STANDARD
BEGIN:DAYLIGHT
TZOFFSETFROM:-0500
TZOFFSETTO:-0400
TZNAME:EDT
DTSTART:20260308T070000
END:DAYLIGHT
BEGIN:STANDARD
TZOFFSETFROM:-0400
TZOFFSETTO:-0500
TZNAME:EST
DTSTART:20261101T060000
END:STANDARD
BEGIN:DAYLIGHT
TZOFFSETFROM:-0500
TZOFFSETTO:-0400
TZNAME:EDT
DTSTART:20270314T070000
END:DAYLIGHT
BEGIN:STANDARD
TZOFFSETFROM:-0400
TZOFFSETTO:-0500
TZNAME:EST
DTSTART:20271107T060000
END:STANDARD
END:VTIMEZONE
BEGIN:VEVENT
DTSTART;TZID=America/Kentucky/Louisville:20260421T180000
DTEND;TZID=America/Kentucky/Louisville:20260421T200000
DTSTAMP:20260425T123530
CREATED:20260123T172538Z
LAST-MODIFIED:20260123T172538Z
UID:659-1776794400-1776801600@fpcparisky.org
SUMMARY:Chess & Craft Night
DESCRIPTION:
URL:https://fpcparisky.org/event/chess-craft-night-14/
END:VEVENT
BEGIN:VEVENT
DTSTART;TZID=America/Kentucky/Louisville:20260414T180000
DTEND;TZID=America/Kentucky/Louisville:20260414T200000
DTSTAMP:20260425T123530
CREATED:20260123T183739Z
LAST-MODIFIED:20260123T183739Z
UID:831-1776189600-1776196800@fpcparisky.org
SUMMARY:Tuesd'y at the Presby: Trudy Sosbe Rose
DESCRIPTION:
URL:https://fpcparisky.org/event/tuesdy-at-the-presby-trudy-sosbe-rose/
END:VEVENT
BEGIN:VEVENT
DTSTART;TZID=America/Kentucky/Louisville:20260414T180000
DTEND;TZID=America/Kentucky/Louisville:20260414T200000
DTSTAMP:20260425T123530
CREATED:20260123T172455Z
LAST-MODIFIED:20260123T172507Z
UID:657-1776189600-1776196800@fpcparisky.org
SUMMARY:Chess & Craft Night
DESCRIPTION:
URL:https://fpcparisky.org/event/chess-craft-night-13/
END:VEVENT
BEGIN:VEVENT
DTSTART;TZID=America/Kentucky/Louisville:20260407T180000
DTEND;TZID=America/Kentucky/Louisville:20260407T200000
DTSTAMP:20260425T123530
CREATED:20260123T172415Z
LAST-MODIFIED:20260123T172415Z
UID:653-1775584800-1775592000@fpcparisky.org
SUMMARY:Chess & Craft Night
DESCRIPTION:
URL:https://fpcparisky.org/event/chess-craft-night-11/
END:VEVENT
BEGIN:VEVENT
DTSTART;TZID=America/Kentucky/Louisville:20260405T103000
DTEND;TZID=America/Kentucky/Louisville:20260405T120000
DTSTAMP:20260425T123530
CREATED:20260123T175018Z
LAST-MODIFIED:20260123T175302Z
UID:744-1775385000-1775390400@fpcparisky.org
SUMMARY:Sunrise Service/Easter Sunday
DESCRIPTION:
URL:https://fpcparisky.org/event/communion-sunday-2/
END:VEVENT
BEGIN:VEVENT
DTSTART;VALUE=DATE:20260402
DTEND;VALUE=DATE:20260403
DTSTAMP:20260425T123530
CREATED:20260123T183057Z
LAST-MODIFIED:20260123T183057Z
UID:829-1775088000-1775174399@fpcparisky.org
SUMMARY:Maundy Thursday
DESCRIPTION:
URL:https://fpcparisky.org/event/maundy-thursday/
END:VEVENT
BEGIN:VEVENT
DTSTART;TZID=America/Kentucky/Louisville:20260331T180000
DTEND;TZID=America/Kentucky/Louisville:20260331T200000
DTSTAMP:20260425T123530
CREATED:20260123T172348Z
LAST-MODIFIED:20260123T172348Z
UID:651-1774980000-1774987200@fpcparisky.org
SUMMARY:Chess & Craft Night
DESCRIPTION:
URL:https://fpcparisky.org/event/chess-craft-night-10/
END:VEVENT
BEGIN:VEVENT
DTSTART;TZID=America/Kentucky/Louisville:20260326T090000
DTEND;TZID=America/Kentucky/Louisville:20260326T120000
DTSTAMP:20260425T123530
CREATED:20260123T183038Z
LAST-MODIFIED:20260123T183038Z
UID:827-1774515600-1774526400@fpcparisky.org
SUMMARY:Session
DESCRIPTION:
URL:https://fpcparisky.org/event/session-3/
END:VEVENT
BEGIN:VEVENT
DTSTART;TZID=America/Kentucky/Louisville:20260324T180000
DTEND;TZID=America/Kentucky/Louisville:20260324T200000
DTSTAMP:20260425T123530
CREATED:20260123T172324Z
LAST-MODIFIED:20260123T172324Z
UID:649-1774375200-1774382400@fpcparisky.org
SUMMARY:Chess & Craft Night
DESCRIPTION:
URL:https://fpcparisky.org/event/chess-craft-night-9/
END:VEVENT
BEGIN:VEVENT
DTSTART;TZID=America/Kentucky/Louisville:20260317T180000
DTEND;TZID=America/Kentucky/Louisville:20260317T193000
DTSTAMP:20260425T123530
CREATED:20260123T172211Z
LAST-MODIFIED:20260123T172211Z
UID:647-1773770400-1773775800@fpcparisky.org
SUMMARY:Chess & Craft Night
DESCRIPTION:
URL:https://fpcparisky.org/event/chess-craft-night-8/
END:VEVENT
BEGIN:VEVENT
DTSTART;TZID=America/Kentucky/Louisville:20260313T183000
DTEND;TZID=America/Kentucky/Louisville:20260313T203000
DTSTAMP:20260425T123530
CREATED:20260123T182943Z
LAST-MODIFIED:20260123T182943Z
UID:823-1773426600-1773433800@fpcparisky.org
SUMMARY:Beer & Hymns
DESCRIPTION:@ Rose & Thorne Pub
URL:https://fpcparisky.org/event/beer-hymns-2/
END:VEVENT
BEGIN:VEVENT
DTSTART;TZID=America/Kentucky/Louisville:20260310T180000
DTEND;TZID=America/Kentucky/Louisville:20260310T200000
DTSTAMP:20260425T123530
CREATED:20260123T171930Z
LAST-MODIFIED:20260123T171930Z
UID:645-1773165600-1773172800@fpcparisky.org
SUMMARY:Chess & Craft Night
DESCRIPTION:
URL:https://fpcparisky.org/event/chess-craft-night-7/
END:VEVENT
BEGIN:VEVENT
DTSTART;VALUE=DATE:20260304
DTEND;VALUE=DATE:20260305
DTSTAMP:20260425T123530
CREATED:20260123T182858Z
LAST-MODIFIED:20260123T182858Z
UID:821-1772582400-1772668799@fpcparisky.org
SUMMARY:Backpacks
DESCRIPTION:
URL:https://fpcparisky.org/event/backpacks/
END:VEVENT
BEGIN:VEVENT
DTSTART;TZID=America/Kentucky/Louisville:20260303T180000
DTEND;TZID=America/Kentucky/Louisville:20260303T200000
DTSTAMP:20260425T123530
CREATED:20260123T171910Z
LAST-MODIFIED:20260123T171910Z
UID:643-1772560800-1772568000@fpcparisky.org
SUMMARY:Chess & Craft Night
DESCRIPTION:
URL:https://fpcparisky.org/event/chess-craft-night-6/
END:VEVENT
BEGIN:VEVENT
DTSTART;VALUE=DATE:20260302
DTEND;VALUE=DATE:20260303
DTSTAMP:20260425T123530
CREATED:20260123T182845Z
LAST-MODIFIED:20260123T182845Z
UID:819-1772409600-1772495999@fpcparisky.org
SUMMARY:Community Choir Begins
DESCRIPTION:
URL:https://fpcparisky.org/event/community-choir-begins/
END:VEVENT
BEGIN:VEVENT
DTSTART;TZID=America/Kentucky/Louisville:20260301T103000
DTEND;TZID=America/Kentucky/Louisville:20260301T120000
DTSTAMP:20260425T123530
CREATED:20260123T174953Z
LAST-MODIFIED:20260123T181238Z
UID:742-1772361000-1772366400@fpcparisky.org
SUMMARY:Communion Sunday
DESCRIPTION:
URL:https://fpcparisky.org/event/chess-craft-night-52/
END:VEVENT
BEGIN:VEVENT
DTSTART;TZID=America/Kentucky/Louisville:20260227T090000
DTEND;TZID=America/Kentucky/Louisville:20260227T120000
DTSTAMP:20260425T123530
CREATED:20260123T182721Z
LAST-MODIFIED:20260123T182721Z
UID:816-1772182800-1772193600@fpcparisky.org
SUMMARY:Session
DESCRIPTION:
URL:https://fpcparisky.org/event/session-2/
END:VEVENT
BEGIN:VEVENT
DTSTART;TZID=America/Kentucky/Louisville:20260224T180000
DTEND;TZID=America/Kentucky/Louisville:20260224T200000
DTSTAMP:20260425T123530
CREATED:20260123T171842Z
LAST-MODIFIED:20260123T171842Z
UID:641-1771956000-1771963200@fpcparisky.org
SUMMARY:Chess & Craft Night
DESCRIPTION:
URL:https://fpcparisky.org/event/chess-craft-night-5/
END:VEVENT
BEGIN:VEVENT
DTSTART;TZID=America/Kentucky/Louisville:20260222T103000
DTEND;TZID=America/Kentucky/Louisville:20260222T120000
DTSTAMP:20260425T123530
CREATED:20260123T174935Z
LAST-MODIFIED:20260123T174935Z
UID:740-1771756200-1771761600@fpcparisky.org
SUMMARY:Lent Begins
DESCRIPTION:
URL:https://fpcparisky.org/event/lent-begins/
END:VEVENT
BEGIN:VEVENT
DTSTART;TZID=America/Kentucky/Louisville:20260217T180000
DTEND;TZID=America/Kentucky/Louisville:20260217T200000
DTSTAMP:20260425T123530
CREATED:20260123T182607Z
LAST-MODIFIED:20260123T182607Z
UID:814-1771351200-1771358400@fpcparisky.org
SUMMARY:Tuesd'y at the Presby: Open Mic Night
DESCRIPTION:
URL:https://fpcparisky.org/event/tuesdy-at-the-presby-open-mic-night/
END:VEVENT
BEGIN:VEVENT
DTSTART;TZID=America/Kentucky/Louisville:20260217T180000
DTEND;TZID=America/Kentucky/Louisville:20260217T200000
DTSTAMP:20260425T123530
CREATED:20260123T171820Z
LAST-MODIFIED:20260123T181136Z
UID:639-1771351200-1771358400@fpcparisky.org
SUMMARY:Chess & Craft Night
DESCRIPTION:This month\, we are collecting heart-shaped candy for seniors!
URL:https://fpcparisky.org/event/chess-craft-night-4/
END:VEVENT
BEGIN:VEVENT
DTSTART;TZID=America/Kentucky/Louisville:20260213T173000
DTEND;TZID=America/Kentucky/Louisville:20260213T203000
DTSTAMP:20260425T123530
CREATED:20260123T232300Z
LAST-MODIFIED:20260129T215718Z
UID:840-1771003800-1771014600@fpcparisky.org
SUMMARY:Valentine's Spaghetti Dinner Youth Fundraiser
DESCRIPTION:February 13\nthere will be a Youth Fundraiser\, so our youth can go to church camps and have other fun opportunities in the spring and summer! \nEach $7 dinner ticket provides: spaghetti\, garlic bread\, a dessert\, and a drink.\nThere are 2 reservation times available: 5:30 or 7:00 pm in the Fellowship Hall. \nYou can sponsor a meal for someone as well! Let Connie H know if you need helping finding someone to sponsor! \nYou can register for your tickets online! \nPay for your tickets online here. Please put in the Note/Memo “Spaghetti” or “Youth Fund”. \nYou can also sign up in the narthex! \nLive music will be provided; Limited Delivery will be available.\nReserve your tickets or sponsor a meal today!\nThe Youth look forward to a fun year!
URL:https://fpcparisky.org/event/vday-dinner/
LOCATION:FIrst Presbyterian Church\, 517 Pleasant St.\, Paris\, KY\, 40361\, United States
END:VEVENT
BEGIN:VEVENT
DTSTART;TZID=America/Kentucky/Louisville:20260210T180000
DTEND;TZID=America/Kentucky/Louisville:20260210T200000
DTSTAMP:20260425T123530
CREATED:20260123T171514Z
LAST-MODIFIED:20260123T171514Z
UID:637-1770746400-1770753600@fpcparisky.org
SUMMARY:Chess & Craft Night
DESCRIPTION:
URL:https://fpcparisky.org/event/chess-craft-night-2/
END:VEVENT
BEGIN:VEVENT
DTSTART;TZID=America/Kentucky/Louisville:20260206T183000
DTEND;TZID=America/Kentucky/Louisville:20260206T203000
DTSTAMP:20260425T123530
CREATED:20260123T182511Z
LAST-MODIFIED:20260123T182511Z
UID:812-1770402600-1770409800@fpcparisky.org
SUMMARY:Beer & Hymns
DESCRIPTION:at Rose & Thorne pub
URL:https://fpcparisky.org/event/beer-hymns/
END:VEVENT
BEGIN:VEVENT
DTSTART;TZID=America/Kentucky/Louisville:20260203T180000
DTEND;TZID=America/Kentucky/Louisville:20260203T200000
DTSTAMP:20260425T123530
CREATED:20260123T170734Z
LAST-MODIFIED:20260123T170734Z
UID:631-1770141600-1770148800@fpcparisky.org
SUMMARY:Chess & Craft Night
DESCRIPTION:
URL:https://fpcparisky.org/event/chess-craft-night/
END:VEVENT
BEGIN:VEVENT
DTSTART;TZID=America/Kentucky/Louisville:20260201T103000
DTEND;TZID=America/Kentucky/Louisville:20260201T120000
DTSTAMP:20260425T123530
CREATED:20260123T170323Z
LAST-MODIFIED:20260123T181100Z
UID:622-1769941800-1769947200@fpcparisky.org
SUMMARY:Communion Sunday
DESCRIPTION:This month\, we are collecting heart-shaped candy for seniors!
URL:https://fpcparisky.org/event/communion-sunday/
LOCATION:FIrst Presbyterian Church\, 517 Pleasant St.\, Paris\, KY\, 40361\, United States
END:VEVENT
BEGIN:VEVENT
DTSTART;TZID=America/Kentucky/Louisville:20260130T080000
DTEND;TZID=America/Kentucky/Louisville:20260130T170000
DTSTAMP:20260425T123530
CREATED:20260130T154010Z
LAST-MODIFIED:20260130T154010Z
UID:861-1769760000-1769792400@fpcparisky.org
SUMMARY:PBCC Choir Concert
DESCRIPTION:Join us for some wonderful music.
URL:https://fpcparisky.org/event/pbcc-choir-concert/
END:VEVENT
BEGIN:VEVENT
DTSTART;TZID=America/Kentucky/Louisville:20260127T180000
DTEND;TZID=America/Kentucky/Louisville:20260127T200000
DTSTAMP:20260425T123530
CREATED:20260123T170604Z
LAST-MODIFIED:20260123T170704Z
UID:629-1769536800-1769544000@fpcparisky.org
SUMMARY:Chess & Craft Night
DESCRIPTION:
URL:https://fpcparisky.org/event/chess-craft-night-3/
END:VEVENT
BEGIN:VEVENT
DTSTART;TZID=America/Kentucky/Louisville:20260123T080000
DTEND;TZID=America/Kentucky/Louisville:20260123T170000
DTSTAMP:20260425T123530
CREATED:20260123T183006Z
LAST-MODIFIED:20260123T183006Z
UID:825-1769155200-1769187600@fpcparisky.org
SUMMARY:Tuesd'y at the Presby: Them Lasses
DESCRIPTION:
URL:https://fpcparisky.org/event/tuesdy-at-the-presby-them-lasses/
END:VEVENT
BEGIN:VEVENT
DTSTART;TZID=America/Kentucky/Louisville:20260118T104500
DTEND;TZID=America/Kentucky/Louisville:20260118T123000
DTSTAMP:20260425T123530
CREATED:20260116T174150Z
LAST-MODIFIED:20260116T174150Z
UID:619-1768733100-1768739400@fpcparisky.org
SUMMARY:Congregational Meeting Sunday
DESCRIPTION:
URL:https://fpcparisky.org/event/congregational-meeting-sunday/
END:VEVENT
END:VCALENDAR