BEGIN:VCALENDAR
VERSION:2.0
PRODID:-//First Presbyterian of Paris - ECPv6.15.15//NONSGML v1.0//EN
CALSCALE:GREGORIAN
METHOD:PUBLISH
X-ORIGINAL-URL:https://fpcparisky.org
X-WR-CALDESC:Events for First Presbyterian of Paris
REFRESH-INTERVAL;VALUE=DURATION:PT1H
X-Robots-Tag:noindex
X-PUBLISHED-TTL:PT1H
BEGIN:VTIMEZONE
TZID:America/Kentucky/Louisville
BEGIN:DAYLIGHT
TZOFFSETFROM:-0500
TZOFFSETTO:-0400
TZNAME:EDT
DTSTART:20250309T070000
END:DAYLIGHT
BEGIN:STANDARD
TZOFFSETFROM:-0400
TZOFFSETTO:-0500
TZNAME:EST
DTSTART:20251102T060000
END:STANDARD
BEGIN:DAYLIGHT
TZOFFSETFROM:-0500
TZOFFSETTO:-0400
TZNAME:EDT
DTSTART:20260308T070000
END:DAYLIGHT
BEGIN:STANDARD
TZOFFSETFROM:-0400
TZOFFSETTO:-0500
TZNAME:EST
DTSTART:20261101T060000
END:STANDARD
BEGIN:DAYLIGHT
TZOFFSETFROM:-0500
TZOFFSETTO:-0400
TZNAME:EDT
DTSTART:20270314T070000
END:DAYLIGHT
BEGIN:STANDARD
TZOFFSETFROM:-0400
TZOFFSETTO:-0500
TZNAME:EST
DTSTART:20271107T060000
END:STANDARD
END:VTIMEZONE
BEGIN:VEVENT
DTSTART;VALUE=DATE:20260402
DTEND;VALUE=DATE:20260403
DTSTAMP:20260425T124010
CREATED:20260123T183057Z
LAST-MODIFIED:20260123T183057Z
UID:829-1775088000-1775174399@fpcparisky.org
SUMMARY:Maundy Thursday
DESCRIPTION:
URL:https://fpcparisky.org/event/maundy-thursday/
END:VEVENT
BEGIN:VEVENT
DTSTART;TZID=America/Kentucky/Louisville:20260405T103000
DTEND;TZID=America/Kentucky/Louisville:20260405T120000
DTSTAMP:20260425T124010
CREATED:20260123T175018Z
LAST-MODIFIED:20260123T175302Z
UID:744-1775385000-1775390400@fpcparisky.org
SUMMARY:Sunrise Service/Easter Sunday
DESCRIPTION:
URL:https://fpcparisky.org/event/communion-sunday-2/
END:VEVENT
BEGIN:VEVENT
DTSTART;TZID=America/Kentucky/Louisville:20260407T180000
DTEND;TZID=America/Kentucky/Louisville:20260407T200000
DTSTAMP:20260425T124010
CREATED:20260123T172415Z
LAST-MODIFIED:20260123T172415Z
UID:653-1775584800-1775592000@fpcparisky.org
SUMMARY:Chess & Craft Night
DESCRIPTION:
URL:https://fpcparisky.org/event/chess-craft-night-11/
END:VEVENT
BEGIN:VEVENT
DTSTART;TZID=America/Kentucky/Louisville:20260414T180000
DTEND;TZID=America/Kentucky/Louisville:20260414T200000
DTSTAMP:20260425T124010
CREATED:20260123T172455Z
LAST-MODIFIED:20260123T172507Z
UID:657-1776189600-1776196800@fpcparisky.org
SUMMARY:Chess & Craft Night
DESCRIPTION:
URL:https://fpcparisky.org/event/chess-craft-night-13/
END:VEVENT
BEGIN:VEVENT
DTSTART;TZID=America/Kentucky/Louisville:20260414T180000
DTEND;TZID=America/Kentucky/Louisville:20260414T200000
DTSTAMP:20260425T124010
CREATED:20260123T183739Z
LAST-MODIFIED:20260123T183739Z
UID:831-1776189600-1776196800@fpcparisky.org
SUMMARY:Tuesd'y at the Presby: Trudy Sosbe Rose
DESCRIPTION:
URL:https://fpcparisky.org/event/tuesdy-at-the-presby-trudy-sosbe-rose/
END:VEVENT
BEGIN:VEVENT
DTSTART;TZID=America/Kentucky/Louisville:20260421T180000
DTEND;TZID=America/Kentucky/Louisville:20260421T200000
DTSTAMP:20260425T124010
CREATED:20260123T172538Z
LAST-MODIFIED:20260123T172538Z
UID:659-1776794400-1776801600@fpcparisky.org
SUMMARY:Chess & Craft Night
DESCRIPTION:
URL:https://fpcparisky.org/event/chess-craft-night-14/
END:VEVENT
BEGIN:VEVENT
DTSTART;VALUE=DATE:20260424
DTEND;VALUE=DATE:20260427
DTSTAMP:20260425T124010
CREATED:20260123T183818Z
LAST-MODIFIED:20260123T183818Z
UID:833-1776988800-1777247999@fpcparisky.org
SUMMARY:Anne of Green Gables
DESCRIPTION:
URL:https://fpcparisky.org/event/anne-of-green-gables/
END:VEVENT
BEGIN:VEVENT
DTSTART;TZID=America/Kentucky/Louisville:20260428T180000
DTEND;TZID=America/Kentucky/Louisville:20260428T200000
DTSTAMP:20260425T124010
CREATED:20260123T172605Z
LAST-MODIFIED:20260123T172650Z
UID:661-1777399200-1777406400@fpcparisky.org
SUMMARY:Chess & Craft Night
DESCRIPTION:
URL:https://fpcparisky.org/event/chess-craft-night-15/
END:VEVENT
BEGIN:VEVENT
DTSTART;TZID=America/Kentucky/Louisville:20260430T090000
DTEND;TZID=America/Kentucky/Louisville:20260430T120000
DTSTAMP:20260425T124010
CREATED:20260123T183909Z
LAST-MODIFIED:20260123T183909Z
UID:835-1777539600-1777550400@fpcparisky.org
SUMMARY:Session
DESCRIPTION:
URL:https://fpcparisky.org/event/session-4/
END:VEVENT
BEGIN:VEVENT
DTSTART;TZID=America/Kentucky/Louisville:20260503T103000
DTEND;TZID=America/Kentucky/Louisville:20260503T120000
DTSTAMP:20260425T124010
CREATED:20260123T175056Z
LAST-MODIFIED:20260123T181347Z
UID:746-1777804200-1777809600@fpcparisky.org
SUMMARY:Communion Sunday
DESCRIPTION:This month\, we are supporting LifeHouse Pregnancy Center!
URL:https://fpcparisky.org/event/communion-sunday-3/
END:VEVENT
BEGIN:VEVENT
DTSTART;TZID=America/Kentucky/Louisville:20260505T180000
DTEND;TZID=America/Kentucky/Louisville:20260505T200000
DTSTAMP:20260425T124010
CREATED:20260123T172721Z
LAST-MODIFIED:20260123T172721Z
UID:663-1778004000-1778011200@fpcparisky.org
SUMMARY:Chess & Craft Night
DESCRIPTION:
URL:https://fpcparisky.org/event/chess-craft-night-16/
END:VEVENT
BEGIN:VEVENT
DTSTART;VALUE=DATE:20260506
DTEND;VALUE=DATE:20260507
DTSTAMP:20260425T124010
CREATED:20260130T153841Z
LAST-MODIFIED:20260130T153841Z
UID:856-1778025600-1778111999@fpcparisky.org
SUMMARY:Backpacks
DESCRIPTION:
URL:https://fpcparisky.org/event/backpacks-2/
END:VEVENT
BEGIN:VEVENT
DTSTART;TZID=America/Kentucky/Louisville:20260508T183000
DTEND;TZID=America/Kentucky/Louisville:20260508T203000
DTSTAMP:20260425T124010
CREATED:20260123T184137Z
LAST-MODIFIED:20260123T184137Z
UID:837-1778265000-1778272200@fpcparisky.org
SUMMARY:Beer & Hymns
DESCRIPTION:
URL:https://fpcparisky.org/event/beer-hymns-3/
END:VEVENT
BEGIN:VEVENT
DTSTART;TZID=America/Kentucky/Louisville:20260508T183000
DTEND;TZID=America/Kentucky/Louisville:20260508T203000
DTSTAMP:20260425T124010
CREATED:20260130T153917Z
LAST-MODIFIED:20260130T153928Z
UID:858-1778265000-1778272200@fpcparisky.org
SUMMARY:Beer & Hymns
DESCRIPTION:@ Rose & Thorne Pub
URL:https://fpcparisky.org/event/beer-hymns-4/
END:VEVENT
BEGIN:VEVENT
DTSTART;TZID=America/Kentucky/Louisville:20260510T103000
DTEND;TZID=America/Kentucky/Louisville:20260510T120000
DTSTAMP:20260425T124010
CREATED:20260123T175138Z
LAST-MODIFIED:20260123T175138Z
UID:748-1778409000-1778414400@fpcparisky.org
SUMMARY:Mother's Day Sunday
DESCRIPTION:
URL:https://fpcparisky.org/event/mothers-day-sunday/
END:VEVENT
BEGIN:VEVENT
DTSTART;TZID=America/Kentucky/Louisville:20260512T180000
DTEND;TZID=America/Kentucky/Louisville:20260512T200000
DTSTAMP:20260425T124010
CREATED:20260123T172800Z
LAST-MODIFIED:20260123T172800Z
UID:665-1778608800-1778616000@fpcparisky.org
SUMMARY:Chess & Craft Night
DESCRIPTION:
URL:https://fpcparisky.org/event/chess-craft-night-17/
END:VEVENT
BEGIN:VEVENT
DTSTART;TZID=America/Kentucky/Louisville:20260519T180000
DTEND;TZID=America/Kentucky/Louisville:20260519T200000
DTSTAMP:20260425T124010
CREATED:20260123T172829Z
LAST-MODIFIED:20260123T172829Z
UID:667-1779213600-1779220800@fpcparisky.org
SUMMARY:Chess & Craft Night
DESCRIPTION:
URL:https://fpcparisky.org/event/chess-craft-night-18/
END:VEVENT
BEGIN:VEVENT
DTSTART;TZID=America/Kentucky/Louisville:20260524T103000
DTEND;TZID=America/Kentucky/Louisville:20260524T120000
DTSTAMP:20260425T124010
CREATED:20260123T175353Z
LAST-MODIFIED:20260123T175353Z
UID:751-1779618600-1779624000@fpcparisky.org
SUMMARY:Pentecost Sunday. Wear Red!
DESCRIPTION:
URL:https://fpcparisky.org/event/pentecost-sunday-wear-red/
END:VEVENT
BEGIN:VEVENT
DTSTART;TZID=America/Kentucky/Louisville:20260526T180000
DTEND;TZID=America/Kentucky/Louisville:20260526T200000
DTSTAMP:20260425T124010
CREATED:20260123T172854Z
LAST-MODIFIED:20260123T172854Z
UID:669-1779818400-1779825600@fpcparisky.org
SUMMARY:Chess & Craft Night
DESCRIPTION:
URL:https://fpcparisky.org/event/chess-craft-night-19/
END:VEVENT
BEGIN:VEVENT
DTSTART;TZID=America/Kentucky/Louisville:20260531T103000
DTEND;TZID=America/Kentucky/Louisville:20260531T120000
DTSTAMP:20260425T124010
CREATED:20260123T175420Z
LAST-MODIFIED:20260123T175420Z
UID:753-1780223400-1780228800@fpcparisky.org
SUMMARY:Trinity Sunday
DESCRIPTION:
URL:https://fpcparisky.org/event/trinity-sunday/
END:VEVENT
BEGIN:VEVENT
DTSTART;TZID=America/Kentucky/Louisville:20260602T180000
DTEND;TZID=America/Kentucky/Louisville:20260602T200000
DTSTAMP:20260425T124010
CREATED:20260123T172916Z
LAST-MODIFIED:20260123T172916Z
UID:671-1780423200-1780430400@fpcparisky.org
SUMMARY:Chess & Craft Night
DESCRIPTION:
URL:https://fpcparisky.org/event/chess-craft-night-20/
END:VEVENT
BEGIN:VEVENT
DTSTART;TZID=America/Kentucky/Louisville:20260607T103000
DTEND;TZID=America/Kentucky/Louisville:20260607T120000
DTSTAMP:20260425T124010
CREATED:20260123T175513Z
LAST-MODIFIED:20260123T181405Z
UID:755-1780828200-1780833600@fpcparisky.org
SUMMARY:Communion Sunday
DESCRIPTION:This month\, we are supporting LifeHouse Pregnancy Center!
URL:https://fpcparisky.org/event/communion-sunday-4/
END:VEVENT
BEGIN:VEVENT
DTSTART;VALUE=DATE:20260608
DTEND;VALUE=DATE:20260611
DTSTAMP:20260425T124010
CREATED:20260130T154115Z
LAST-MODIFIED:20260130T154115Z
UID:863-1780876800-1781135999@fpcparisky.org
SUMMARY:Camp Burnamwood (3rd-5th grade)
DESCRIPTION:Sending our little ones off to church camp!
URL:https://fpcparisky.org/event/camp-burnamwood-3rd-5th-grade/
END:VEVENT
BEGIN:VEVENT
DTSTART;TZID=America/Kentucky/Louisville:20260609T180000
DTEND;TZID=America/Kentucky/Louisville:20260609T200000
DTSTAMP:20260425T124010
CREATED:20260123T173508Z
LAST-MODIFIED:20260123T173508Z
UID:676-1781028000-1781035200@fpcparisky.org
SUMMARY:Chess & Craft Night
DESCRIPTION:
URL:https://fpcparisky.org/event/chess-craft-night-12/
END:VEVENT
BEGIN:VEVENT
DTSTART;VALUE=DATE:20260610
DTEND;VALUE=DATE:20260614
DTSTAMP:20260425T124010
CREATED:20260130T154214Z
LAST-MODIFIED:20260130T154214Z
UID:865-1781049600-1781395199@fpcparisky.org
SUMMARY:Camp Burnamwood (Middle School)
DESCRIPTION:Sending our young ones off to church camp!
URL:https://fpcparisky.org/event/camp-burnamwood-middle-school/
END:VEVENT
BEGIN:VEVENT
DTSTART;TZID=America/Kentucky/Louisville:20260612T183000
DTEND;TZID=America/Kentucky/Louisville:20260612T203000
DTSTAMP:20260425T124010
CREATED:20260130T154346Z
LAST-MODIFIED:20260130T154346Z
UID:869-1781289000-1781296200@fpcparisky.org
SUMMARY:Beer & Hymns
DESCRIPTION:@ Rose & Thorne Pub
URL:https://fpcparisky.org/event/beer-hymns-5/
END:VEVENT
BEGIN:VEVENT
DTSTART;VALUE=DATE:20260615
DTEND;VALUE=DATE:20260621
DTSTAMP:20260425T124010
CREATED:20260130T154303Z
LAST-MODIFIED:20260130T154303Z
UID:867-1781481600-1781999999@fpcparisky.org
SUMMARY:Camp Burnamwood (High School)
DESCRIPTION:Sending our young ones off to church camp!
URL:https://fpcparisky.org/event/camp-burnamwood-high-school/
END:VEVENT
BEGIN:VEVENT
DTSTART;TZID=America/Kentucky/Louisville:20260616T180000
DTEND;TZID=America/Kentucky/Louisville:20260616T200000
DTSTAMP:20260425T124010
CREATED:20260123T173529Z
LAST-MODIFIED:20260123T173529Z
UID:678-1781632800-1781640000@fpcparisky.org
SUMMARY:Chess & Craft Night
DESCRIPTION:
URL:https://fpcparisky.org/event/chess-craft-night-21/
END:VEVENT
BEGIN:VEVENT
DTSTART;TZID=America/Kentucky/Louisville:20260616T190000
DTEND;TZID=America/Kentucky/Louisville:20260616T200000
DTSTAMP:20260425T124010
CREATED:20260130T154442Z
LAST-MODIFIED:20260130T154442Z
UID:871-1781636400-1781640000@fpcparisky.org
SUMMARY:Tuesd'y at the Presby: Liam's Fancy
DESCRIPTION:
URL:https://fpcparisky.org/event/tuesdy-at-the-presby-liams-fancy/
END:VEVENT
BEGIN:VEVENT
DTSTART;TZID=America/Kentucky/Louisville:20260621T103000
DTEND;TZID=America/Kentucky/Louisville:20260621T120000
DTSTAMP:20260425T124010
CREATED:20260123T175541Z
LAST-MODIFIED:20260123T175541Z
UID:757-1782037800-1782043200@fpcparisky.org
SUMMARY:Father's Day Sunday
DESCRIPTION:
URL:https://fpcparisky.org/event/fathers-day-sunday/
END:VEVENT
END:VCALENDAR