BEGIN:VCALENDAR
VERSION:2.0
PRODID:-//First Presbyterian of Paris - ECPv6.15.15//NONSGML v1.0//EN
CALSCALE:GREGORIAN
METHOD:PUBLISH
X-ORIGINAL-URL:https://fpcparisky.org
X-WR-CALDESC:Events for First Presbyterian of Paris
REFRESH-INTERVAL;VALUE=DURATION:PT1H
X-Robots-Tag:noindex
X-PUBLISHED-TTL:PT1H
BEGIN:VTIMEZONE
TZID:America/Kentucky/Louisville
BEGIN:DAYLIGHT
TZOFFSETFROM:-0500
TZOFFSETTO:-0400
TZNAME:EDT
DTSTART:20250309T070000
END:DAYLIGHT
BEGIN:STANDARD
TZOFFSETFROM:-0400
TZOFFSETTO:-0500
TZNAME:EST
DTSTART:20251102T060000
END:STANDARD
BEGIN:DAYLIGHT
TZOFFSETFROM:-0500
TZOFFSETTO:-0400
TZNAME:EDT
DTSTART:20260308T070000
END:DAYLIGHT
BEGIN:STANDARD
TZOFFSETFROM:-0400
TZOFFSETTO:-0500
TZNAME:EST
DTSTART:20261101T060000
END:STANDARD
BEGIN:DAYLIGHT
TZOFFSETFROM:-0500
TZOFFSETTO:-0400
TZNAME:EDT
DTSTART:20270314T070000
END:DAYLIGHT
BEGIN:STANDARD
TZOFFSETFROM:-0400
TZOFFSETTO:-0500
TZNAME:EST
DTSTART:20271107T060000
END:STANDARD
END:VTIMEZONE
BEGIN:VEVENT
DTSTART;TZID=America/Kentucky/Louisville:20260906T103000
DTEND;TZID=America/Kentucky/Louisville:20260906T120000
DTSTAMP:20260425T194403
CREATED:20260123T180044Z
LAST-MODIFIED:20260123T182134Z
UID:771-1788690600-1788696000@fpcparisky.org
SUMMARY:A season of Peace Begins Sunday
DESCRIPTION:Communion will be observed. This month\, we will be collecting Buckhorn/Desi Scott donations.
URL:https://fpcparisky.org/event/a-season-of-peace-begins-sunday/
END:VEVENT
BEGIN:VEVENT
DTSTART;TZID=America/Kentucky/Louisville:20260908T180000
DTEND;TZID=America/Kentucky/Louisville:20260908T200000
DTSTAMP:20260425T194403
CREATED:20260123T174012Z
LAST-MODIFIED:20260123T174012Z
UID:702-1788890400-1788897600@fpcparisky.org
SUMMARY:Chess & Craft Night
DESCRIPTION:
URL:https://fpcparisky.org/event/chess-craft-night-33/
END:VEVENT
BEGIN:VEVENT
DTSTART;TZID=America/Kentucky/Louisville:20260911T183000
DTEND;TZID=America/Kentucky/Louisville:20260911T203000
DTSTAMP:20260425T194403
CREATED:20260130T155305Z
LAST-MODIFIED:20260130T155305Z
UID:877-1789151400-1789158600@fpcparisky.org
SUMMARY:Beer & Hymns
DESCRIPTION:@ Rose & Thorne Pub
URL:https://fpcparisky.org/event/beer-hymns-7/
END:VEVENT
BEGIN:VEVENT
DTSTART;TZID=America/Kentucky/Louisville:20260913T103000
DTEND;TZID=America/Kentucky/Louisville:20260913T120000
DTSTAMP:20260425T194403
CREATED:20260123T180125Z
LAST-MODIFIED:20260123T180125Z
UID:773-1789295400-1789300800@fpcparisky.org
SUMMARY:Disability Inclusion Sunday
DESCRIPTION:
URL:https://fpcparisky.org/event/disability-inclusion-sunday/
END:VEVENT
BEGIN:VEVENT
DTSTART;VALUE=DATE:20260914
DTEND;VALUE=DATE:20260915
DTSTAMP:20260425T194403
CREATED:20260130T155335Z
LAST-MODIFIED:20260130T155335Z
UID:879-1789344000-1789430399@fpcparisky.org
SUMMARY:PBCC Begins Rehearsals
DESCRIPTION:
URL:https://fpcparisky.org/event/pbcc-begins-rehearsals/
END:VEVENT
BEGIN:VEVENT
DTSTART;TZID=America/Kentucky/Louisville:20260915T180000
DTEND;TZID=America/Kentucky/Louisville:20260915T200000
DTSTAMP:20260425T194403
CREATED:20260123T174033Z
LAST-MODIFIED:20260123T174033Z
UID:704-1789495200-1789502400@fpcparisky.org
SUMMARY:Chess & Craft Night
DESCRIPTION:
URL:https://fpcparisky.org/event/chess-craft-night-34/
END:VEVENT
BEGIN:VEVENT
DTSTART;TZID=America/Kentucky/Louisville:20260922T180000
DTEND;TZID=America/Kentucky/Louisville:20260922T200000
DTSTAMP:20260425T194403
CREATED:20260123T174051Z
LAST-MODIFIED:20260123T174051Z
UID:706-1790100000-1790107200@fpcparisky.org
SUMMARY:Chess & Craft Night
DESCRIPTION:
URL:https://fpcparisky.org/event/chess-craft-night-35/
END:VEVENT
BEGIN:VEVENT
DTSTART;TZID=America/Kentucky/Louisville:20260922T190000
DTEND;TZID=America/Kentucky/Louisville:20260922T203000
DTSTAMP:20260425T194403
CREATED:20260130T155444Z
LAST-MODIFIED:20260130T155444Z
UID:881-1790103600-1790109000@fpcparisky.org
SUMMARY:Tuesd'y at the Presby: Retrograde
DESCRIPTION:
URL:https://fpcparisky.org/event/tuesdy-at-the-presby-retrograde/
END:VEVENT
BEGIN:VEVENT
DTSTART;TZID=America/Kentucky/Louisville:20260927T103000
DTEND;TZID=America/Kentucky/Louisville:20260927T120000
DTSTAMP:20260425T194403
CREATED:20260123T180214Z
LAST-MODIFIED:20260123T180214Z
UID:775-1790505000-1790510400@fpcparisky.org
SUMMARY:Cane Ridge Sunday
DESCRIPTION:
URL:https://fpcparisky.org/event/cane-ridge-sunday/
END:VEVENT
BEGIN:VEVENT
DTSTART;TZID=America/Kentucky/Louisville:20260929T180000
DTEND;TZID=America/Kentucky/Louisville:20260929T200000
DTSTAMP:20260425T194403
CREATED:20260123T174110Z
LAST-MODIFIED:20260123T174110Z
UID:708-1790704800-1790712000@fpcparisky.org
SUMMARY:Chess & Craft Night
DESCRIPTION:
URL:https://fpcparisky.org/event/chess-craft-night-36/
END:VEVENT
BEGIN:VEVENT
DTSTART;TZID=America/Kentucky/Louisville:20261004T103000
DTEND;TZID=America/Kentucky/Louisville:20261004T120000
DTSTAMP:20260425T194403
CREATED:20260123T180251Z
LAST-MODIFIED:20260123T182209Z
UID:777-1791109800-1791115200@fpcparisky.org
SUMMARY:World Communion Sunday
DESCRIPTION:This month\, we are collecting candy or trunk or treat!
URL:https://fpcparisky.org/event/world-communion-sunday/
END:VEVENT
BEGIN:VEVENT
DTSTART;TZID=America/Kentucky/Louisville:20261006T180000
DTEND;TZID=America/Kentucky/Louisville:20261006T200000
DTSTAMP:20260425T194403
CREATED:20260123T174131Z
LAST-MODIFIED:20260123T174131Z
UID:710-1791309600-1791316800@fpcparisky.org
SUMMARY:Chess & Craft Night
DESCRIPTION:
URL:https://fpcparisky.org/event/chess-craft-night-37/
END:VEVENT
BEGIN:VEVENT
DTSTART;TZID=America/Kentucky/Louisville:20261011T103000
DTEND;TZID=America/Kentucky/Louisville:20261011T120000
DTSTAMP:20260425T194403
CREATED:20260123T180327Z
LAST-MODIFIED:20260123T180327Z
UID:779-1791714600-1791720000@fpcparisky.org
SUMMARY:Blessing of the Pets Sunday
DESCRIPTION:
URL:https://fpcparisky.org/event/blessing-of-the-pets-sunday/
END:VEVENT
BEGIN:VEVENT
DTSTART;TZID=America/Kentucky/Louisville:20261013T180000
DTEND;TZID=America/Kentucky/Louisville:20261013T200000
DTSTAMP:20260425T194403
CREATED:20260123T174356Z
LAST-MODIFIED:20260123T174356Z
UID:720-1791914400-1791921600@fpcparisky.org
SUMMARY:Chess & Craft Night
DESCRIPTION:
URL:https://fpcparisky.org/event/chess-craft-night-42/
END:VEVENT
BEGIN:VEVENT
DTSTART;TZID=America/Kentucky/Louisville:20261018T103000
DTEND;TZID=America/Kentucky/Louisville:20261018T120000
DTSTAMP:20260425T194403
CREATED:20260123T180351Z
LAST-MODIFIED:20260123T180351Z
UID:781-1792319400-1792324800@fpcparisky.org
SUMMARY:Children's Sabbath
DESCRIPTION:
URL:https://fpcparisky.org/event/childrens-sabbath/
END:VEVENT
BEGIN:VEVENT
DTSTART;TZID=America/Kentucky/Louisville:20261020T180000
DTEND;TZID=America/Kentucky/Louisville:20261020T200000
DTSTAMP:20260425T194403
CREATED:20260123T174231Z
LAST-MODIFIED:20260123T174231Z
UID:714-1792519200-1792526400@fpcparisky.org
SUMMARY:Chess & Craft Night
DESCRIPTION:
URL:https://fpcparisky.org/event/chess-craft-night-39/
END:VEVENT
BEGIN:VEVENT
DTSTART;TZID=America/Kentucky/Louisville:20261020T180000
DTEND;TZID=America/Kentucky/Louisville:20261020T200000
DTSTAMP:20260425T194404
CREATED:20260123T174418Z
LAST-MODIFIED:20260123T174418Z
UID:722-1792519200-1792526400@fpcparisky.org
SUMMARY:Chess & Craft Night
DESCRIPTION:
URL:https://fpcparisky.org/event/chess-craft-night-43/
END:VEVENT
BEGIN:VEVENT
DTSTART;TZID=America/Kentucky/Louisville:20261025T103000
DTEND;TZID=America/Kentucky/Louisville:20261025T120000
DTSTAMP:20260425T194404
CREATED:20260123T180414Z
LAST-MODIFIED:20260123T180414Z
UID:783-1792924200-1792929600@fpcparisky.org
SUMMARY:Reformation
DESCRIPTION:
URL:https://fpcparisky.org/event/reformation/
END:VEVENT
BEGIN:VEVENT
DTSTART;TZID=America/Kentucky/Louisville:20261027T180000
DTEND;TZID=America/Kentucky/Louisville:20261027T200000
DTSTAMP:20260425T194404
CREATED:20260123T174256Z
LAST-MODIFIED:20260123T174256Z
UID:716-1793124000-1793131200@fpcparisky.org
SUMMARY:Chess & Craft Night
DESCRIPTION:
URL:https://fpcparisky.org/event/chess-craft-night-40/
END:VEVENT
BEGIN:VEVENT
DTSTART;TZID=America/Kentucky/Louisville:20261030T183000
DTEND;TZID=America/Kentucky/Louisville:20261030T203000
DTSTAMP:20260425T194404
CREATED:20260130T155533Z
LAST-MODIFIED:20260130T155533Z
UID:883-1793385000-1793392200@fpcparisky.org
SUMMARY:Beer & Hymns
DESCRIPTION:@ Rose & Thorne Pub
URL:https://fpcparisky.org/event/beer-hymns-8/
END:VEVENT
BEGIN:VEVENT
DTSTART;TZID=America/Kentucky/Louisville:20261101T103000
DTEND;TZID=America/Kentucky/Louisville:20261101T120000
DTSTAMP:20260425T194404
CREATED:20260123T180511Z
LAST-MODIFIED:20260123T182249Z
UID:785-1793529000-1793534400@fpcparisky.org
SUMMARY:Communion Sunday
DESCRIPTION:This month\, we are collecting canned foods/pantry items.
URL:https://fpcparisky.org/event/communion-sunday-6/
END:VEVENT
BEGIN:VEVENT
DTSTART;TZID=America/Kentucky/Louisville:20261103T180000
DTEND;TZID=America/Kentucky/Louisville:20261103T200000
DTSTAMP:20260425T194404
CREATED:20260123T174324Z
LAST-MODIFIED:20260123T174324Z
UID:718-1793728800-1793736000@fpcparisky.org
SUMMARY:Chess & Craft Night
DESCRIPTION:
URL:https://fpcparisky.org/event/chess-craft-night-41/
END:VEVENT
BEGIN:VEVENT
DTSTART;TZID=America/Kentucky/Louisville:20261110T180000
DTEND;TZID=America/Kentucky/Louisville:20261110T200000
DTSTAMP:20260425T194404
CREATED:20260123T174444Z
LAST-MODIFIED:20260123T174444Z
UID:724-1794333600-1794340800@fpcparisky.org
SUMMARY:Chess & Craft Night
DESCRIPTION:
URL:https://fpcparisky.org/event/chess-craft-night-44/
END:VEVENT
BEGIN:VEVENT
DTSTART;TZID=America/Kentucky/Louisville:20261117T080000
DTEND;TZID=America/Kentucky/Louisville:20261117T170000
DTSTAMP:20260425T194404
CREATED:20260123T174500Z
LAST-MODIFIED:20260123T174500Z
UID:726-1794902400-1794934800@fpcparisky.org
SUMMARY:Chess & Craft Night
DESCRIPTION:
URL:https://fpcparisky.org/event/chess-craft-night-45/
END:VEVENT
BEGIN:VEVENT
DTSTART;TZID=America/Kentucky/Louisville:20261122T103000
DTEND;TZID=America/Kentucky/Louisville:20261122T120000
DTSTAMP:20260425T194404
CREATED:20260123T180657Z
LAST-MODIFIED:20260123T180657Z
UID:787-1795343400-1795348800@fpcparisky.org
SUMMARY:Christ the King Sunday
DESCRIPTION:
URL:https://fpcparisky.org/event/christ-the-king-sunday/
END:VEVENT
BEGIN:VEVENT
DTSTART;TZID=America/Kentucky/Louisville:20261124T180000
DTEND;TZID=America/Kentucky/Louisville:20261124T200000
DTSTAMP:20260425T194404
CREATED:20260123T174744Z
LAST-MODIFIED:20260123T174744Z
UID:736-1795543200-1795550400@fpcparisky.org
SUMMARY:Chess & Craft Night
DESCRIPTION:
URL:https://fpcparisky.org/event/chess-craft-night-50/
END:VEVENT
BEGIN:VEVENT
DTSTART;VALUE=DATE:20261126
DTEND;VALUE=DATE:20261127
DTSTAMP:20260425T194404
CREATED:20260130T155555Z
LAST-MODIFIED:20260130T155555Z
UID:885-1795651200-1795737599@fpcparisky.org
SUMMARY:Thanksgiving
DESCRIPTION:
URL:https://fpcparisky.org/event/thanksgiving/
END:VEVENT
BEGIN:VEVENT
DTSTART;TZID=America/Kentucky/Louisville:20261129T103000
DTEND;TZID=America/Kentucky/Louisville:20261129T120000
DTSTAMP:20260425T194404
CREATED:20260123T180747Z
LAST-MODIFIED:20260123T180747Z
UID:789-1795948200-1795953600@fpcparisky.org
SUMMARY:Advent: Hope
DESCRIPTION:
URL:https://fpcparisky.org/event/advent-hope/
END:VEVENT
BEGIN:VEVENT
DTSTART;VALUE=DATE:20261201
DTEND;VALUE=DATE:20261202
DTSTAMP:20260425T194404
CREATED:20260130T155616Z
LAST-MODIFIED:20260130T155616Z
UID:887-1796083200-1796169599@fpcparisky.org
SUMMARY:Joy Luncheon
DESCRIPTION:
URL:https://fpcparisky.org/event/joy-luncheon/
END:VEVENT
BEGIN:VEVENT
DTSTART;TZID=America/Kentucky/Louisville:20261201T180000
DTEND;TZID=America/Kentucky/Louisville:20261201T200000
DTSTAMP:20260425T194404
CREATED:20260123T174528Z
LAST-MODIFIED:20260123T174528Z
UID:728-1796148000-1796155200@fpcparisky.org
SUMMARY:Chess & Craft Night
DESCRIPTION:
URL:https://fpcparisky.org/event/chess-craft-night-46/
END:VEVENT
END:VCALENDAR