BEGIN:VCALENDAR
VERSION:2.0
PRODID:-//First Presbyterian of Paris - ECPv6.15.15//NONSGML v1.0//EN
CALSCALE:GREGORIAN
METHOD:PUBLISH
X-WR-CALNAME:First Presbyterian of Paris
X-ORIGINAL-URL:https://fpcparisky.org
X-WR-CALDESC:Events for First Presbyterian of Paris
REFRESH-INTERVAL;VALUE=DURATION:PT1H
X-Robots-Tag:noindex
X-PUBLISHED-TTL:PT1H
BEGIN:VTIMEZONE
TZID:America/Kentucky/Louisville
BEGIN:DAYLIGHT
TZOFFSETFROM:-0500
TZOFFSETTO:-0400
TZNAME:EDT
DTSTART:20250309T070000
END:DAYLIGHT
BEGIN:STANDARD
TZOFFSETFROM:-0400
TZOFFSETTO:-0500
TZNAME:EST
DTSTART:20251102T060000
END:STANDARD
BEGIN:DAYLIGHT
TZOFFSETFROM:-0500
TZOFFSETTO:-0400
TZNAME:EDT
DTSTART:20260308T070000
END:DAYLIGHT
BEGIN:STANDARD
TZOFFSETFROM:-0400
TZOFFSETTO:-0500
TZNAME:EST
DTSTART:20261101T060000
END:STANDARD
BEGIN:DAYLIGHT
TZOFFSETFROM:-0500
TZOFFSETTO:-0400
TZNAME:EDT
DTSTART:20270314T070000
END:DAYLIGHT
BEGIN:STANDARD
TZOFFSETFROM:-0400
TZOFFSETTO:-0500
TZNAME:EST
DTSTART:20271107T060000
END:STANDARD
END:VTIMEZONE
BEGIN:VEVENT
DTSTART;TZID=America/Kentucky/Louisville:20261103T180000
DTEND;TZID=America/Kentucky/Louisville:20261103T200000
DTSTAMP:20260425T210430
CREATED:20260123T174324Z
LAST-MODIFIED:20260123T174324Z
UID:718-1793728800-1793736000@fpcparisky.org
SUMMARY:Chess & Craft Night
DESCRIPTION:
URL:https://fpcparisky.org/event/chess-craft-night-41/
END:VEVENT
BEGIN:VEVENT
DTSTART;TZID=America/Kentucky/Louisville:20261110T180000
DTEND;TZID=America/Kentucky/Louisville:20261110T200000
DTSTAMP:20260425T210430
CREATED:20260123T174444Z
LAST-MODIFIED:20260123T174444Z
UID:724-1794333600-1794340800@fpcparisky.org
SUMMARY:Chess & Craft Night
DESCRIPTION:
URL:https://fpcparisky.org/event/chess-craft-night-44/
END:VEVENT
BEGIN:VEVENT
DTSTART;TZID=America/Kentucky/Louisville:20261117T080000
DTEND;TZID=America/Kentucky/Louisville:20261117T170000
DTSTAMP:20260425T210430
CREATED:20260123T174500Z
LAST-MODIFIED:20260123T174500Z
UID:726-1794902400-1794934800@fpcparisky.org
SUMMARY:Chess & Craft Night
DESCRIPTION:
URL:https://fpcparisky.org/event/chess-craft-night-45/
END:VEVENT
BEGIN:VEVENT
DTSTART;TZID=America/Kentucky/Louisville:20261122T103000
DTEND;TZID=America/Kentucky/Louisville:20261122T120000
DTSTAMP:20260425T210430
CREATED:20260123T180657Z
LAST-MODIFIED:20260123T180657Z
UID:787-1795343400-1795348800@fpcparisky.org
SUMMARY:Christ the King Sunday
DESCRIPTION:
URL:https://fpcparisky.org/event/christ-the-king-sunday/
END:VEVENT
BEGIN:VEVENT
DTSTART;TZID=America/Kentucky/Louisville:20261124T180000
DTEND;TZID=America/Kentucky/Louisville:20261124T200000
DTSTAMP:20260425T210430
CREATED:20260123T174744Z
LAST-MODIFIED:20260123T174744Z
UID:736-1795543200-1795550400@fpcparisky.org
SUMMARY:Chess & Craft Night
DESCRIPTION:
URL:https://fpcparisky.org/event/chess-craft-night-50/
END:VEVENT
BEGIN:VEVENT
DTSTART;VALUE=DATE:20261126
DTEND;VALUE=DATE:20261127
DTSTAMP:20260425T210430
CREATED:20260130T155555Z
LAST-MODIFIED:20260130T155555Z
UID:885-1795651200-1795737599@fpcparisky.org
SUMMARY:Thanksgiving
DESCRIPTION:
URL:https://fpcparisky.org/event/thanksgiving/
END:VEVENT
BEGIN:VEVENT
DTSTART;TZID=America/Kentucky/Louisville:20261129T103000
DTEND;TZID=America/Kentucky/Louisville:20261129T120000
DTSTAMP:20260425T210430
CREATED:20260123T180747Z
LAST-MODIFIED:20260123T180747Z
UID:789-1795948200-1795953600@fpcparisky.org
SUMMARY:Advent: Hope
DESCRIPTION:
URL:https://fpcparisky.org/event/advent-hope/
END:VEVENT
BEGIN:VEVENT
DTSTART;VALUE=DATE:20261201
DTEND;VALUE=DATE:20261202
DTSTAMP:20260425T210430
CREATED:20260130T155616Z
LAST-MODIFIED:20260130T155616Z
UID:887-1796083200-1796169599@fpcparisky.org
SUMMARY:Joy Luncheon
DESCRIPTION:
URL:https://fpcparisky.org/event/joy-luncheon/
END:VEVENT
BEGIN:VEVENT
DTSTART;TZID=America/Kentucky/Louisville:20261201T180000
DTEND;TZID=America/Kentucky/Louisville:20261201T200000
DTSTAMP:20260425T210430
CREATED:20260123T174528Z
LAST-MODIFIED:20260123T174528Z
UID:728-1796148000-1796155200@fpcparisky.org
SUMMARY:Chess & Craft Night
DESCRIPTION:
URL:https://fpcparisky.org/event/chess-craft-night-46/
END:VEVENT
BEGIN:VEVENT
DTSTART;TZID=America/Kentucky/Louisville:20261206T103000
DTEND;TZID=America/Kentucky/Louisville:20261206T120000
DTSTAMP:20260425T210430
CREATED:20260123T180812Z
LAST-MODIFIED:20260123T182348Z
UID:791-1796553000-1796558400@fpcparisky.org
SUMMARY:Advent: Peace
DESCRIPTION:Communion will be observed. This month\, we are collecting winter gear/hats & gloves.
URL:https://fpcparisky.org/event/advent-peace/
END:VEVENT
BEGIN:VEVENT
DTSTART;TZID=America/Kentucky/Louisville:20261208T180000
DTEND;TZID=America/Kentucky/Louisville:20261208T200000
DTSTAMP:20260425T210430
CREATED:20260123T174554Z
LAST-MODIFIED:20260123T174554Z
UID:730-1796752800-1796760000@fpcparisky.org
SUMMARY:Chess & Craft Night
DESCRIPTION:
URL:https://fpcparisky.org/event/chess-craft-night-47/
END:VEVENT
BEGIN:VEVENT
DTSTART;TZID=America/Kentucky/Louisville:20261213T103000
DTEND;TZID=America/Kentucky/Louisville:20261213T120000
DTSTAMP:20260425T210430
CREATED:20260123T180840Z
LAST-MODIFIED:20260123T180840Z
UID:793-1797157800-1797163200@fpcparisky.org
SUMMARY:Advent: Love
DESCRIPTION:
URL:https://fpcparisky.org/event/advent-love/
END:VEVENT
BEGIN:VEVENT
DTSTART;TZID=America/Kentucky/Louisville:20261213T190000
DTEND;TZID=America/Kentucky/Louisville:20261213T200000
DTSTAMP:20260425T210430
CREATED:20260130T155647Z
LAST-MODIFIED:20260130T155713Z
UID:889-1797188400-1797192000@fpcparisky.org
SUMMARY:PBCC Xmas Concert
DESCRIPTION:
URL:https://fpcparisky.org/event/pbcc-xmas-concert/
END:VEVENT
BEGIN:VEVENT
DTSTART;TZID=America/Kentucky/Louisville:20261215T180000
DTEND;TZID=America/Kentucky/Louisville:20261215T200000
DTSTAMP:20260425T210430
CREATED:20260123T174617Z
LAST-MODIFIED:20260123T174617Z
UID:732-1797357600-1797364800@fpcparisky.org
SUMMARY:Chess & Craft Night
DESCRIPTION:
URL:https://fpcparisky.org/event/chess-craft-night-48/
END:VEVENT
BEGIN:VEVENT
DTSTART;TZID=America/Kentucky/Louisville:20261215T190000
DTEND;TZID=America/Kentucky/Louisville:20261215T200000
DTSTAMP:20260425T210430
CREATED:20260130T155805Z
LAST-MODIFIED:20260130T155805Z
UID:891-1797361200-1797364800@fpcparisky.org
SUMMARY:Tuesd'y at the Presby: PBCC Concert
DESCRIPTION:
URL:https://fpcparisky.org/event/tuesdy-at-the-presby-pbcc-concert/
END:VEVENT
BEGIN:VEVENT
DTSTART;TZID=America/Kentucky/Louisville:20261218T183000
DTEND;TZID=America/Kentucky/Louisville:20261218T203000
DTSTAMP:20260425T210430
CREATED:20260130T155850Z
LAST-MODIFIED:20260130T155850Z
UID:893-1797618600-1797625800@fpcparisky.org
SUMMARY:Beer & Carols
DESCRIPTION:@ Rose & Thorne Pub
URL:https://fpcparisky.org/event/beer-carols/
END:VEVENT
BEGIN:VEVENT
DTSTART;TZID=America/Kentucky/Louisville:20261220T103000
DTEND;TZID=America/Kentucky/Louisville:20261220T120000
DTSTAMP:20260425T210430
CREATED:20260123T180904Z
LAST-MODIFIED:20260123T180904Z
UID:795-1797762600-1797768000@fpcparisky.org
SUMMARY:Advent: Joy
DESCRIPTION:
URL:https://fpcparisky.org/event/advent-joy/
END:VEVENT
BEGIN:VEVENT
DTSTART;TZID=America/Kentucky/Louisville:20261220T103000
DTEND;TZID=America/Kentucky/Louisville:20261220T120000
DTSTAMP:20260425T210430
CREATED:20260130T155929Z
LAST-MODIFIED:20260130T155929Z
UID:895-1797762600-1797768000@fpcparisky.org
SUMMARY:Christmas Youth Program
DESCRIPTION:
URL:https://fpcparisky.org/event/christmas-youth-program/
END:VEVENT
BEGIN:VEVENT
DTSTART;TZID=America/Kentucky/Louisville:20261222T180000
DTEND;TZID=America/Kentucky/Louisville:20261222T200000
DTSTAMP:20260425T210430
CREATED:20260123T174803Z
LAST-MODIFIED:20260123T174803Z
UID:738-1797962400-1797969600@fpcparisky.org
SUMMARY:Chess & Craft Night
DESCRIPTION:
URL:https://fpcparisky.org/event/chess-craft-night-51/
END:VEVENT
BEGIN:VEVENT
DTSTART;TZID=America/Kentucky/Louisville:20261224T180000
DTEND;TZID=America/Kentucky/Louisville:20261224T190000
DTSTAMP:20260425T210430
CREATED:20260130T160030Z
LAST-MODIFIED:20260130T160030Z
UID:897-1798135200-1798138800@fpcparisky.org
SUMMARY:Lessons & Carols
DESCRIPTION:Walk through the story of Christ’s Birth and sing carols.
URL:https://fpcparisky.org/event/lessons-carols/
END:VEVENT
BEGIN:VEVENT
DTSTART;TZID=America/Kentucky/Louisville:20261227T103000
DTEND;TZID=America/Kentucky/Louisville:20261227T120000
DTSTAMP:20260425T210430
CREATED:20260123T181005Z
LAST-MODIFIED:20260123T181005Z
UID:797-1798367400-1798372800@fpcparisky.org
SUMMARY:Candle of Christ Sunday
DESCRIPTION:
URL:https://fpcparisky.org/event/candle-of-christ-sunday/
END:VEVENT
BEGIN:VEVENT
DTSTART;TZID=America/Kentucky/Louisville:20261229T180000
DTEND;TZID=America/Kentucky/Louisville:20261229T200000
DTSTAMP:20260425T210430
CREATED:20260123T174638Z
LAST-MODIFIED:20260123T174710Z
UID:734-1798567200-1798574400@fpcparisky.org
SUMMARY:Chess & Craft Night
DESCRIPTION:
URL:https://fpcparisky.org/event/chess-craft-night-49/
END:VEVENT
END:VCALENDAR