BEGIN:VCALENDAR
VERSION:2.0
PRODID:-//First Presbyterian of Paris - ECPv6.15.15//NONSGML v1.0//EN
CALSCALE:GREGORIAN
METHOD:PUBLISH
X-ORIGINAL-URL:https://fpcparisky.org
X-WR-CALDESC:Events for First Presbyterian of Paris
REFRESH-INTERVAL;VALUE=DURATION:PT1H
X-Robots-Tag:noindex
X-PUBLISHED-TTL:PT1H
BEGIN:VTIMEZONE
TZID:America/Kentucky/Louisville
BEGIN:DAYLIGHT
TZOFFSETFROM:-0500
TZOFFSETTO:-0400
TZNAME:EDT
DTSTART:20250309T070000
END:DAYLIGHT
BEGIN:STANDARD
TZOFFSETFROM:-0400
TZOFFSETTO:-0500
TZNAME:EST
DTSTART:20251102T060000
END:STANDARD
BEGIN:DAYLIGHT
TZOFFSETFROM:-0500
TZOFFSETTO:-0400
TZNAME:EDT
DTSTART:20260308T070000
END:DAYLIGHT
BEGIN:STANDARD
TZOFFSETFROM:-0400
TZOFFSETTO:-0500
TZNAME:EST
DTSTART:20261101T060000
END:STANDARD
BEGIN:DAYLIGHT
TZOFFSETFROM:-0500
TZOFFSETTO:-0400
TZNAME:EDT
DTSTART:20270314T070000
END:DAYLIGHT
BEGIN:STANDARD
TZOFFSETFROM:-0400
TZOFFSETTO:-0500
TZNAME:EST
DTSTART:20271107T060000
END:STANDARD
END:VTIMEZONE
BEGIN:VEVENT
DTSTART;TZID=America/Kentucky/Louisville:20261213T190000
DTEND;TZID=America/Kentucky/Louisville:20261213T200000
DTSTAMP:20260425T224436
CREATED:20260130T155647Z
LAST-MODIFIED:20260130T155713Z
UID:889-1797188400-1797192000@fpcparisky.org
SUMMARY:PBCC Xmas Concert
DESCRIPTION:
URL:https://fpcparisky.org/event/pbcc-xmas-concert/
END:VEVENT
BEGIN:VEVENT
DTSTART;TZID=America/Kentucky/Louisville:20261215T180000
DTEND;TZID=America/Kentucky/Louisville:20261215T200000
DTSTAMP:20260425T224436
CREATED:20260123T174617Z
LAST-MODIFIED:20260123T174617Z
UID:732-1797357600-1797364800@fpcparisky.org
SUMMARY:Chess & Craft Night
DESCRIPTION:
URL:https://fpcparisky.org/event/chess-craft-night-48/
END:VEVENT
BEGIN:VEVENT
DTSTART;TZID=America/Kentucky/Louisville:20261215T190000
DTEND;TZID=America/Kentucky/Louisville:20261215T200000
DTSTAMP:20260425T224436
CREATED:20260130T155805Z
LAST-MODIFIED:20260130T155805Z
UID:891-1797361200-1797364800@fpcparisky.org
SUMMARY:Tuesd'y at the Presby: PBCC Concert
DESCRIPTION:
URL:https://fpcparisky.org/event/tuesdy-at-the-presby-pbcc-concert/
END:VEVENT
BEGIN:VEVENT
DTSTART;TZID=America/Kentucky/Louisville:20261218T183000
DTEND;TZID=America/Kentucky/Louisville:20261218T203000
DTSTAMP:20260425T224436
CREATED:20260130T155850Z
LAST-MODIFIED:20260130T155850Z
UID:893-1797618600-1797625800@fpcparisky.org
SUMMARY:Beer & Carols
DESCRIPTION:@ Rose & Thorne Pub
URL:https://fpcparisky.org/event/beer-carols/
END:VEVENT
BEGIN:VEVENT
DTSTART;TZID=America/Kentucky/Louisville:20261220T103000
DTEND;TZID=America/Kentucky/Louisville:20261220T120000
DTSTAMP:20260425T224436
CREATED:20260123T180904Z
LAST-MODIFIED:20260123T180904Z
UID:795-1797762600-1797768000@fpcparisky.org
SUMMARY:Advent: Joy
DESCRIPTION:
URL:https://fpcparisky.org/event/advent-joy/
END:VEVENT
BEGIN:VEVENT
DTSTART;TZID=America/Kentucky/Louisville:20261220T103000
DTEND;TZID=America/Kentucky/Louisville:20261220T120000
DTSTAMP:20260425T224436
CREATED:20260130T155929Z
LAST-MODIFIED:20260130T155929Z
UID:895-1797762600-1797768000@fpcparisky.org
SUMMARY:Christmas Youth Program
DESCRIPTION:
URL:https://fpcparisky.org/event/christmas-youth-program/
END:VEVENT
BEGIN:VEVENT
DTSTART;TZID=America/Kentucky/Louisville:20261222T180000
DTEND;TZID=America/Kentucky/Louisville:20261222T200000
DTSTAMP:20260425T224436
CREATED:20260123T174803Z
LAST-MODIFIED:20260123T174803Z
UID:738-1797962400-1797969600@fpcparisky.org
SUMMARY:Chess & Craft Night
DESCRIPTION:
URL:https://fpcparisky.org/event/chess-craft-night-51/
END:VEVENT
BEGIN:VEVENT
DTSTART;TZID=America/Kentucky/Louisville:20261224T180000
DTEND;TZID=America/Kentucky/Louisville:20261224T190000
DTSTAMP:20260425T224436
CREATED:20260130T160030Z
LAST-MODIFIED:20260130T160030Z
UID:897-1798135200-1798138800@fpcparisky.org
SUMMARY:Lessons & Carols
DESCRIPTION:Walk through the story of Christ’s Birth and sing carols.
URL:https://fpcparisky.org/event/lessons-carols/
END:VEVENT
BEGIN:VEVENT
DTSTART;TZID=America/Kentucky/Louisville:20261227T103000
DTEND;TZID=America/Kentucky/Louisville:20261227T120000
DTSTAMP:20260425T224436
CREATED:20260123T181005Z
LAST-MODIFIED:20260123T181005Z
UID:797-1798367400-1798372800@fpcparisky.org
SUMMARY:Candle of Christ Sunday
DESCRIPTION:
URL:https://fpcparisky.org/event/candle-of-christ-sunday/
END:VEVENT
BEGIN:VEVENT
DTSTART;TZID=America/Kentucky/Louisville:20261229T180000
DTEND;TZID=America/Kentucky/Louisville:20261229T200000
DTSTAMP:20260425T224436
CREATED:20260123T174638Z
LAST-MODIFIED:20260123T174710Z
UID:734-1798567200-1798574400@fpcparisky.org
SUMMARY:Chess & Craft Night
DESCRIPTION:
URL:https://fpcparisky.org/event/chess-craft-night-49/
END:VEVENT
END:VCALENDAR