BEGIN:VCALENDAR
VERSION:2.0
PRODID:-//First Presbyterian of Paris - ECPv6.15.15//NONSGML v1.0//EN
CALSCALE:GREGORIAN
METHOD:PUBLISH
X-WR-CALNAME:First Presbyterian of Paris
X-ORIGINAL-URL:https://fpcparisky.org
X-WR-CALDESC:Events for First Presbyterian of Paris
REFRESH-INTERVAL;VALUE=DURATION:PT1H
X-Robots-Tag:noindex
X-PUBLISHED-TTL:PT1H
BEGIN:VTIMEZONE
TZID:America/Kentucky/Louisville
BEGIN:DAYLIGHT
TZOFFSETFROM:-0500
TZOFFSETTO:-0400
TZNAME:EDT
DTSTART:20250309T070000
END:DAYLIGHT
BEGIN:STANDARD
TZOFFSETFROM:-0400
TZOFFSETTO:-0500
TZNAME:EST
DTSTART:20251102T060000
END:STANDARD
BEGIN:DAYLIGHT
TZOFFSETFROM:-0500
TZOFFSETTO:-0400
TZNAME:EDT
DTSTART:20260308T070000
END:DAYLIGHT
BEGIN:STANDARD
TZOFFSETFROM:-0400
TZOFFSETTO:-0500
TZNAME:EST
DTSTART:20261101T060000
END:STANDARD
BEGIN:DAYLIGHT
TZOFFSETFROM:-0500
TZOFFSETTO:-0400
TZNAME:EDT
DTSTART:20270314T070000
END:DAYLIGHT
BEGIN:STANDARD
TZOFFSETFROM:-0400
TZOFFSETTO:-0500
TZNAME:EST
DTSTART:20271107T060000
END:STANDARD
END:VTIMEZONE
BEGIN:VEVENT
DTSTART;TZID=America/Kentucky/Louisville:20260802T103000
DTEND;TZID=America/Kentucky/Louisville:20260802T120000
DTSTAMP:20260425T152329
CREATED:20260123T175918Z
LAST-MODIFIED:20260123T182102Z
UID:767-1785666600-1785672000@fpcparisky.org
SUMMARY:College & Young Adult Sunday
DESCRIPTION:Communion will be observed. This month\, we will be collecting Buckhorn/Desi Scott donations. \n 
URL:https://fpcparisky.org/event/college-young-adult-sunday/
END:VEVENT
BEGIN:VEVENT
DTSTART;TZID=America/Kentucky/Louisville:20260804T180000
DTEND;TZID=America/Kentucky/Louisville:20260804T200000
DTSTAMP:20260425T152329
CREATED:20260123T173759Z
LAST-MODIFIED:20260123T173759Z
UID:692-1785866400-1785873600@fpcparisky.org
SUMMARY:Chess & Craft Night
DESCRIPTION:
URL:https://fpcparisky.org/event/chess-craft-night-28/
END:VEVENT
BEGIN:VEVENT
DTSTART;TZID=America/Kentucky/Louisville:20260811T180000
DTEND;TZID=America/Kentucky/Louisville:20260811T200000
DTSTAMP:20260425T152329
CREATED:20260123T173820Z
LAST-MODIFIED:20260123T173820Z
UID:694-1786471200-1786478400@fpcparisky.org
SUMMARY:Chess & Craft Night
DESCRIPTION:
URL:https://fpcparisky.org/event/chess-craft-night-29/
END:VEVENT
BEGIN:VEVENT
DTSTART;TZID=America/Kentucky/Louisville:20260814T183000
DTEND;TZID=America/Kentucky/Louisville:20260814T203000
DTSTAMP:20260425T152329
CREATED:20260130T154543Z
LAST-MODIFIED:20260130T154543Z
UID:873-1786732200-1786739400@fpcparisky.org
SUMMARY:Beer & Hymns
DESCRIPTION:@ Rose & Thorne Pub
URL:https://fpcparisky.org/event/beer-hymns-6/
END:VEVENT
BEGIN:VEVENT
DTSTART;TZID=America/Kentucky/Louisville:20260818T180000
DTEND;TZID=America/Kentucky/Louisville:20260818T200000
DTSTAMP:20260425T152329
CREATED:20260123T173930Z
LAST-MODIFIED:20260123T173930Z
UID:698-1787076000-1787083200@fpcparisky.org
SUMMARY:Chess & Craft Night
DESCRIPTION:
URL:https://fpcparisky.org/event/chess-craft-night-31/
END:VEVENT
BEGIN:VEVENT
DTSTART;TZID=America/Kentucky/Louisville:20260818T190000
DTEND;TZID=America/Kentucky/Louisville:20260818T200000
DTSTAMP:20260425T152329
CREATED:20260130T155209Z
LAST-MODIFIED:20260130T155209Z
UID:875-1787079600-1787083200@fpcparisky.org
SUMMARY:Tuesd'y at the Presby: Jerry Johnson
DESCRIPTION:
URL:https://fpcparisky.org/event/tuesdy-at-the-presby-jerry-johnson/
END:VEVENT
BEGIN:VEVENT
DTSTART;TZID=America/Kentucky/Louisville:20260825T180000
DTEND;TZID=America/Kentucky/Louisville:20260825T180000
DTSTAMP:20260425T152329
CREATED:20260123T173841Z
LAST-MODIFIED:20260123T173911Z
UID:696-1787680800-1787680800@fpcparisky.org
SUMMARY:Chess & Craft Night
DESCRIPTION:
URL:https://fpcparisky.org/event/chess-craft-night-30/
END:VEVENT
BEGIN:VEVENT
DTSTART;TZID=America/Kentucky/Louisville:20260830T103000
DTEND;TZID=America/Kentucky/Louisville:20260830T120000
DTSTAMP:20260425T152329
CREATED:20260123T175956Z
LAST-MODIFIED:20260123T175956Z
UID:769-1788085800-1788091200@fpcparisky.org
SUMMARY:Presby Higher Education Sunday
DESCRIPTION:
URL:https://fpcparisky.org/event/presby-higher-education-sunday/
END:VEVENT
END:VCALENDAR